BEGIN:VCALENDAR
VERSION:2.0
PRODID:-//Department Of Education//9b005f96-4e4a-4939-8d90-405d6b43bace
BEGIN:VTIMEZONE
TZID:Australia/Sydney
TZURL:http://tzurl.org/zoneinfo-outlook/Australia/Sydney
X-LIC-LOCATION:Australia/Sydney
BEGIN:STANDARD
TZOFFSETFROM:+1100
TZOFFSETTO:+1000
TZNAME:AEST
DTSTART:19700405T030000
RRULE:FREQ=YEARLY;BYMONTH=4;BYDAY=1SU
END:STANDARD
BEGIN:DAYLIGHT
TZOFFSETFROM:+1000
TZOFFSETTO:+1100
TZNAME:AEDT
DTSTART:19701004T020000
RRULE:FREQ=YEARLY;BYMONTH=10;BYDAY=1SU
END:DAYLIGHT
END:VTIMEZONE
CALSCALE:GREGORIAN
X-WR-TIMEZONE:Australia/Sydney
BEGIN:VEVENT
DTSTART;TZID=Australia/Sydney:20190925T091000
DTEND;TZID=Australia/Sydney:20190925T103000
DTSTAMP:20190925T000000Z
UID:c51a022a-8289-4593-a287-853217f3062f
LOCATION:SJPPS Community First Step Building 
SUMMARY;LANGUAGE=en-us:Coffee and Chat
RRULE:FREQ=WEEKLY;INTERVAL=1;UNTIL=20200925;
SEQUENCE:0
DESCRIPTION:Coffee and chat is a great opportunity to meet other parents and stay informed with the latest school news and initatives. This program is for our school parents and community members and is run by the SJPPS Community Liaison Officers, Vi Nguyen and Dunia Mashko. 
END:VEVENT
TRANSP:TRANSPARENT
END:VCALENDAR
